Package: rfaRm Version: 1.19.0 Command: /home/biocbuild/R/R/bin/R CMD INSTALL rfaRm StartedAt: 2025-01-29 20:29:16 -0000 (Wed, 29 Jan 2025) EndedAt: 2025-01-29 20:29:34 -0000 (Wed, 29 Jan 2025) EllapsedTime: 18.5 seconds RetCode: 0 Status: OK