Package: rfaRm Version: 1.19.0 Command: rm -rf rfaRm.buildbin-libdir && mkdir rfaRm.buildbin-libdir && /Users/biocbuild/BBS/utils/build-universal.sh rfaRm_1.19.0.tar.gz /Library/Frameworks/R.framework/Resources/bin/R rfaRm.buildbin-libdir StartedAt: 2025-02-10 01:11:34 -0500 (Mon, 10 Feb 2025) EndedAt: 2025-02-10 01:12:00 -0500 (Mon, 10 Feb 2025) EllapsedTime: 26.5 seconds RetCode: 0 Status: OK PackageFile: rfaRm_1.19.0.tgz PackageFileSize: 596.8 KiB