Package: rfaRm Version: 1.19.0 Command: /Library/Frameworks/R.framework/Resources/bin/R CMD check --install=check:rfaRm.install-out.txt --library=/Library/Frameworks/R.framework/Resources/library --no-vignettes --timings rfaRm_1.19.0.tar.gz StartedAt: 2025-02-09 23:04:09 -0500 (Sun, 09 Feb 2025) EndedAt: 2025-02-09 23:06:42 -0500 (Sun, 09 Feb 2025) EllapsedTime: 152.4 seconds RetCode: 0 Status: OK CheckDir: rfaRm.Rcheck Warnings: 0