Package: rfaRm Version: 1.19.0 Command: /home/biocbuild/bbs-3.21-bioc/R/bin/R CMD build --keep-empty-dirs --no-resave-data rfaRm StartedAt: 2025-02-03 19:03:09 -0500 (Mon, 03 Feb 2025) EndedAt: 2025-02-03 19:03:59 -0500 (Mon, 03 Feb 2025) EllapsedTime: 50.1 seconds RetCode: 0 Status: OK PackageFile: rfaRm_1.19.0.tar.gz PackageFileSize: 760.3 KiB