Package: rgsepd Version: 1.39.0 Command: /Library/Frameworks/R.framework/Resources/bin/R CMD build --keep-empty-dirs --no-resave-data rgsepd StartedAt: 2025-02-09 17:23:56 -0500 (Sun, 09 Feb 2025) EndedAt: 2025-02-09 17:25:50 -0500 (Sun, 09 Feb 2025) EllapsedTime: 114.2 seconds RetCode: 0 Status: OK PackageFile: rgsepd_1.39.0.tar.gz PackageFileSize: 1.184 MiB