Package: rgsepd Version: 1.39.0 Command: /Library/Frameworks/R.framework/Resources/bin/R CMD check --install=check:rgsepd.install-out.txt --library=/Library/Frameworks/R.framework/Resources/library --no-vignettes --timings rgsepd_1.39.0.tar.gz StartedAt: 2025-02-09 20:57:36 -0500 (Sun, 09 Feb 2025) EndedAt: 2025-02-09 21:00:43 -0500 (Sun, 09 Feb 2025) EllapsedTime: 187.4 seconds RetCode: 0 Status: OK CheckDir: rgsepd.Rcheck Warnings: 0