Package: rgsepd Version: 1.39.0 Command: /Library/Frameworks/R.framework/Resources/bin/R CMD INSTALL rgsepd StartedAt: 2025-02-09 15:14:07 -0500 (Sun, 09 Feb 2025) EndedAt: 2025-02-09 15:15:21 -0500 (Sun, 09 Feb 2025) EllapsedTime: 74.3 seconds RetCode: 0 Status: OK