Package: rgsepd Version: 1.39.0 Command: rm -rf rgsepd.buildbin-libdir && mkdir rgsepd.buildbin-libdir && E:\biocbuild\bbs-3.21-bioc\R\bin\R.exe CMD INSTALL --build --library=rgsepd.buildbin-libdir rgsepd_1.39.0.tar.gz StartedAt: 2025-02-10 08:32:45 -0500 (Mon, 10 Feb 2025) EndedAt: 2025-02-10 08:35:38 -0500 (Mon, 10 Feb 2025) EllapsedTime: 173.5 seconds RetCode: 0 Status: OK PackageFile: rgsepd_1.39.0.zip PackageFileSize: 1.284 MiB