Package: rhdf5 Version: 2.51.2 Command: /Library/Frameworks/R.framework/Resources/bin/R CMD build --keep-empty-dirs --no-resave-data rhdf5 StartedAt: 2025-02-09 17:24:01 -0500 (Sun, 09 Feb 2025) EndedAt: 2025-02-09 17:24:30 -0500 (Sun, 09 Feb 2025) EllapsedTime: 29.3 seconds RetCode: 0 Status: OK PackageFile: rhdf5_2.51.2.tar.gz PackageFileSize: 1.203 MiB