Package: rhdf5 Version: 2.51.2 Command: /Library/Frameworks/R.framework/Resources/bin/R CMD INSTALL rhdf5 StartedAt: 2025-02-09 15:03:24 -0500 (Sun, 09 Feb 2025) EndedAt: 2025-02-09 15:03:32 -0500 (Sun, 09 Feb 2025) EllapsedTime: 7.9 seconds RetCode: 0 Status: OK