Package: rhdf5 Version: 2.51.2 Command: /home/biocbuild/R/R/bin/R CMD INSTALL rhdf5 StartedAt: 2025-01-29 19:37:23 -0000 (Wed, 29 Jan 2025) EndedAt: 2025-01-29 19:37:38 -0000 (Wed, 29 Jan 2025) EllapsedTime: 14.9 seconds RetCode: 0 Status: OK