Package: rhdf5 Version: 2.51.2 Command: /Library/Frameworks/R.framework/Resources/bin/R CMD check --install=check:rhdf5.install-out.txt --library=/Library/Frameworks/R.framework/Resources/library --no-vignettes --timings rhdf5_2.51.2.tar.gz StartedAt: 2025-02-03 22:50:17 -0500 (Mon, 03 Feb 2025) EndedAt: 2025-02-03 22:51:15 -0500 (Mon, 03 Feb 2025) EllapsedTime: 57.9 seconds RetCode: 0 Status: WARNINGS CheckDir: rhdf5.Rcheck Warnings: 1