Package: rhdf5 Version: 2.51.2 Command: /home/biocbuild/bbs-3.21-bioc/R/bin/R CMD INSTALL rhdf5 StartedAt: 2025-02-03 15:16:23 -0500 (Mon, 03 Feb 2025) EndedAt: 2025-02-03 15:17:12 -0500 (Mon, 03 Feb 2025) EllapsedTime: 48.8 seconds RetCode: 0 Status: OK