Package: rhdf5 Version: 2.51.2 Command: rm -rf rhdf5.buildbin-libdir && mkdir rhdf5.buildbin-libdir && E:\biocbuild\bbs-3.21-bioc\R\bin\R.exe CMD INSTALL --build --library=rhdf5.buildbin-libdir rhdf5_2.51.2.tar.gz StartedAt: 2025-02-10 08:32:46 -0500 (Mon, 10 Feb 2025) EndedAt: 2025-02-10 08:34:13 -0500 (Mon, 10 Feb 2025) EllapsedTime: 87.0 seconds RetCode: 0 Status: OK PackageFile: rhdf5_2.51.2.zip PackageFileSize: 4.365 MiB