Package: rhdf5 Version: 2.51.2 Command: chmod a+r rhdf5 -R && E:\biocbuild\bbs-3.21-bioc\R\bin\R.exe CMD build --keep-empty-dirs --no-resave-data rhdf5 StartedAt: 2025-02-09 21:10:17 -0500 (Sun, 09 Feb 2025) EndedAt: 2025-02-09 21:14:16 -0500 (Sun, 09 Feb 2025) EllapsedTime: 239.1 seconds RetCode: 0 Status: OK PackageFile: rhdf5_2.51.2.tar.gz PackageFileSize: 1.2 MiB