Package: rhdf5 Version: 2.51.2 Command: E:\biocbuild\bbs-3.21-bioc\R\bin\R.exe CMD check --no-multiarch --install=check:rhdf5.install-out.txt --library=E:\biocbuild\bbs-3.21-bioc\R\library --no-vignettes --timings rhdf5_2.51.2.tar.gz StartedAt: 2025-02-04 05:08:44 -0500 (Tue, 04 Feb 2025) EndedAt: 2025-02-04 05:10:46 -0500 (Tue, 04 Feb 2025) EllapsedTime: 122.6 seconds RetCode: 0 Status: WARNINGS CheckDir: rhdf5.Rcheck Warnings: 1