Package: rhdf5 Version: 2.51.2 Command: E:\biocbuild\bbs-3.21-bioc\R\bin\R.exe CMD INSTALL rhdf5 StartedAt: 2025-02-09 15:22:33 -0500 (Sun, 09 Feb 2025) EndedAt: 2025-02-09 15:24:08 -0500 (Sun, 09 Feb 2025) EllapsedTime: 95.6 seconds RetCode: 0 Status: OK