Package: riboSeqR Version: 1.41.0 Command: rm -rf riboSeqR.buildbin-libdir && mkdir riboSeqR.buildbin-libdir && /Users/biocbuild/BBS/utils/build-universal.sh riboSeqR_1.41.0.tar.gz /Library/Frameworks/R.framework/Resources/bin/R riboSeqR.buildbin-libdir StartedAt: 2025-02-10 01:11:58 -0500 (Mon, 10 Feb 2025) EndedAt: 2025-02-10 01:12:23 -0500 (Mon, 10 Feb 2025) EllapsedTime: 25.4 seconds RetCode: 0 Status: OK PackageFile: riboSeqR_1.41.0.tgz PackageFileSize: 3.949 MiB