Package: riboSeqR Version: 1.41.0 Command: /Library/Frameworks/R.framework/Resources/bin/R CMD build --keep-empty-dirs --no-resave-data riboSeqR StartedAt: 2025-02-09 18:10:30 -0500 (Sun, 09 Feb 2025) EndedAt: 2025-02-09 18:11:02 -0500 (Sun, 09 Feb 2025) EllapsedTime: 32.0 seconds RetCode: 0 Status: OK PackageFile: riboSeqR_1.41.0.tar.gz PackageFileSize: 3.65 MiB