Package: rifi Version: 1.11.0 Command: /Library/Frameworks/R.framework/Resources/bin/R CMD check --install=check:rifi.install-out.txt --library=/Library/Frameworks/R.framework/Resources/library --no-vignettes --timings rifi_1.11.0.tar.gz StartedAt: 2025-02-09 20:58:37 -0500 (Sun, 09 Feb 2025) EndedAt: 2025-02-09 21:02:05 -0500 (Sun, 09 Feb 2025) EllapsedTime: 208.4 seconds RetCode: 0 Status: WARNINGS CheckDir: rifi.Rcheck Warnings: 2