Package: rifi Version: 1.11.0 Command: /home/biocbuild/R/R/bin/R CMD build --keep-empty-dirs --no-resave-data rifi StartedAt: 2025-01-29 01:42:52 -0000 (Wed, 29 Jan 2025) EndedAt: 2025-01-29 01:44:53 -0000 (Wed, 29 Jan 2025) EllapsedTime: 121.1 seconds RetCode: 0 Status: OK PackageFile: rifi_1.11.0.tar.gz PackageFileSize: 7.263 MiB