Package: rifi Version: 1.11.0 Command: /Library/Frameworks/R.framework/Resources/bin/R CMD build --keep-empty-dirs --no-resave-data rifi StartedAt: 2025-02-09 18:10:34 -0500 (Sun, 09 Feb 2025) EndedAt: 2025-02-09 18:12:24 -0500 (Sun, 09 Feb 2025) EllapsedTime: 109.8 seconds RetCode: 0 Status: OK PackageFile: rifi_1.11.0.tar.gz PackageFileSize: 7.197 MiB