Package: rifi Version: 1.11.0 Command: /home/biocbuild/bbs-3.21-bioc/R/bin/R CMD build --keep-empty-dirs --no-resave-data rifi StartedAt: 2025-02-12 18:52:22 -0500 (Wed, 12 Feb 2025) EndedAt: 2025-02-12 18:53:46 -0500 (Wed, 12 Feb 2025) EllapsedTime: 84.1 seconds RetCode: 0 Status: OK PackageFile: rifi_1.11.0.tar.gz PackageFileSize: 7.196 MiB