Package: rifi Version: 1.11.0 Command: /home/biocbuild/bbs-3.21-bioc/R/bin/R CMD INSTALL rifi StartedAt: 2025-02-09 15:26:47 -0500 (Sun, 09 Feb 2025) EndedAt: 2025-02-09 15:27:25 -0500 (Sun, 09 Feb 2025) EllapsedTime: 38.1 seconds RetCode: 0 Status: OK