Package: rmelting Version: 1.23.0 Command: rm -rf rmelting.buildbin-libdir && mkdir rmelting.buildbin-libdir && /Users/biocbuild/BBS/utils/build-universal.sh rmelting_1.23.0.tar.gz /Library/Frameworks/R.framework/Resources/bin/R rmelting.buildbin-libdir StartedAt: 2025-02-09 22:27:59 -0500 (Sun, 09 Feb 2025) EndedAt: 2025-02-09 22:28:02 -0500 (Sun, 09 Feb 2025) EllapsedTime: 3.1 seconds RetCode: 0 Status: OK PackageFile: rmelting_1.23.0.tgz PackageFileSize: 2.431 MiB