Package: rmelting Version: 1.23.0 Command: /Library/Frameworks/R.framework/Resources/bin/R CMD check --install=check:rmelting.install-out.txt --library=/Library/Frameworks/R.framework/Resources/library --no-vignettes --timings rmelting_1.23.0.tar.gz StartedAt: 2025-02-09 21:00:26 -0500 (Sun, 09 Feb 2025) EndedAt: 2025-02-09 21:00:45 -0500 (Sun, 09 Feb 2025) EllapsedTime: 19.3 seconds RetCode: 0 Status: OK CheckDir: rmelting.Rcheck Warnings: 0