Package: rmelting Version: 1.23.0 Command: /Library/Frameworks/R.framework/Resources/bin/R CMD INSTALL rmelting StartedAt: 2025-02-09 15:03:09 -0500 (Sun, 09 Feb 2025) EndedAt: 2025-02-09 15:03:17 -0500 (Sun, 09 Feb 2025) EllapsedTime: 8.3 seconds RetCode: 0 Status: OK