Package: rmelting Version: 1.23.0 Command: /home/biocbuild/R/R/bin/R CMD build --keep-empty-dirs --no-resave-data rmelting StartedAt: 2025-01-29 01:45:30 -0000 (Wed, 29 Jan 2025) EndedAt: 2025-01-29 01:46:02 -0000 (Wed, 29 Jan 2025) EllapsedTime: 32.0 seconds RetCode: 0 Status: OK PackageFile: rmelting_1.23.0.tar.gz PackageFileSize: 2.474 MiB