Package: rmelting Version: 1.23.0 Command: /home/biocbuild/R/R/bin/R CMD INSTALL rmelting StartedAt: 2025-01-29 19:34:50 -0000 (Wed, 29 Jan 2025) EndedAt: 2025-01-29 19:35:16 -0000 (Wed, 29 Jan 2025) EllapsedTime: 26.2 seconds RetCode: 0 Status: OK