Package: rmelting Version: 1.23.0 Command: /home/biocbuild/bbs-3.21-bioc/R/bin/R CMD build --keep-empty-dirs --no-resave-data rmelting StartedAt: 2025-02-12 18:53:04 -0500 (Wed, 12 Feb 2025) EndedAt: 2025-02-12 18:53:29 -0500 (Wed, 12 Feb 2025) EllapsedTime: 25.0 seconds RetCode: 0 Status: OK PackageFile: rmelting_1.23.0.tar.gz PackageFileSize: 2.49 MiB