Package: rmelting Version: 1.23.0 Command: chmod a+r rmelting -R && E:\biocbuild\bbs-3.21-bioc\R\bin\R.exe CMD build --keep-empty-dirs --no-resave-data rmelting StartedAt: 2025-02-12 21:20:16 -0500 (Wed, 12 Feb 2025) EndedAt: 2025-02-12 21:21:03 -0500 (Wed, 12 Feb 2025) EllapsedTime: 46.4 seconds RetCode: 0 Status: OK PackageFile: rmelting_1.23.0.tar.gz PackageFileSize: 2.492 MiB