Package: rmspc Version: 1.13.0 Command: /Library/Frameworks/R.framework/Resources/bin/R CMD build --keep-empty-dirs --no-resave-data rmspc StartedAt: 2025-02-12 17:25:48 -0500 (Wed, 12 Feb 2025) EndedAt: 2025-02-12 17:26:27 -0500 (Wed, 12 Feb 2025) EllapsedTime: 38.4 seconds RetCode: 0 Status: OK PackageFile: rmspc_1.13.0.tar.gz PackageFileSize: 2.129 MiB