Package: rmspc Version: 1.13.0 Command: /home/biocbuild/bbs-3.21-bioc/R/bin/R CMD INSTALL rmspc StartedAt: 2025-02-09 15:27:02 -0500 (Sun, 09 Feb 2025) EndedAt: 2025-02-09 15:27:30 -0500 (Sun, 09 Feb 2025) EllapsedTime: 28.7 seconds RetCode: 0 Status: OK