Package: rmspc Version: 1.13.0 Command: rm -rf rmspc.buildbin-libdir && mkdir rmspc.buildbin-libdir && E:\biocbuild\bbs-3.21-bioc\R\bin\R.exe CMD INSTALL --build --library=rmspc.buildbin-libdir rmspc_1.13.0.tar.gz StartedAt: 2025-02-10 08:34:16 -0500 (Mon, 10 Feb 2025) EndedAt: 2025-02-10 08:34:52 -0500 (Mon, 10 Feb 2025) EllapsedTime: 35.7 seconds RetCode: 0 Status: OK PackageFile: rmspc_1.13.0.zip PackageFileSize: 2.142 MiB