Package: rmspc Version: 1.13.0 Command: chmod a+r rmspc -R && E:\biocbuild\bbs-3.21-bioc\R\bin\R.exe CMD build --keep-empty-dirs --no-resave-data rmspc StartedAt: 2025-02-12 21:20:37 -0500 (Wed, 12 Feb 2025) EndedAt: 2025-02-12 21:21:43 -0500 (Wed, 12 Feb 2025) EllapsedTime: 65.7 seconds RetCode: 0 Status: OK PackageFile: rmspc_1.13.0.tar.gz PackageFileSize: 2.129 MiB