Package: rnaseqcomp Version: 1.37.0 Command: /Library/Frameworks/R.framework/Resources/bin/R CMD build --keep-empty-dirs --no-resave-data rnaseqcomp StartedAt: 2025-02-09 17:26:19 -0500 (Sun, 09 Feb 2025) EndedAt: 2025-02-09 17:26:28 -0500 (Sun, 09 Feb 2025) EllapsedTime: 9.1 seconds RetCode: 0 Status: OK PackageFile: rnaseqcomp_1.37.0.tar.gz PackageFileSize: 1.532 MiB