Package: rnaseqcomp Version: 1.37.0 Command: /home/biocbuild/R/R/bin/R CMD check --install=check:rnaseqcomp.install-out.txt --library=/home/biocbuild/R/R/site-library --no-vignettes --timings rnaseqcomp_1.37.0.tar.gz StartedAt: 2025-01-28 14:39:44 -0000 (Tue, 28 Jan 2025) EndedAt: 2025-01-28 14:40:31 -0000 (Tue, 28 Jan 2025) EllapsedTime: 47.0 seconds RetCode: 0 Status: OK CheckDir: rnaseqcomp.Rcheck Warnings: 0