Package: rnaseqcomp Version: 1.37.0 Command: /home/biocbuild/R/R/bin/R CMD INSTALL rnaseqcomp StartedAt: 2025-01-29 20:35:49 -0000 (Wed, 29 Jan 2025) EndedAt: 2025-01-29 20:35:53 -0000 (Wed, 29 Jan 2025) EllapsedTime: 4.1 seconds RetCode: 0 Status: OK