Package: rnaseqcomp Version: 1.37.0 Command: rm -rf rnaseqcomp.buildbin-libdir && mkdir rnaseqcomp.buildbin-libdir && /Users/biocbuild/BBS/utils/build-universal.sh rnaseqcomp_1.37.0.tar.gz /Library/Frameworks/R.framework/Resources/bin/R rnaseqcomp.buildbin-libdir StartedAt: 2025-02-10 01:12:36 -0500 (Mon, 10 Feb 2025) EndedAt: 2025-02-10 01:12:43 -0500 (Mon, 10 Feb 2025) EllapsedTime: 6.9 seconds RetCode: 0 Status: OK PackageFile: rnaseqcomp_1.37.0.tgz PackageFileSize: 1.697 MiB