Package: rnaseqcomp Version: 1.37.0 Command: /Library/Frameworks/R.framework/Resources/bin/R CMD check --install=check:rnaseqcomp.install-out.txt --library=/Library/Frameworks/R.framework/Resources/library --no-vignettes --timings rnaseqcomp_1.37.0.tar.gz StartedAt: 2025-02-09 23:10:39 -0500 (Sun, 09 Feb 2025) EndedAt: 2025-02-09 23:11:26 -0500 (Sun, 09 Feb 2025) EllapsedTime: 46.8 seconds RetCode: 0 Status: OK CheckDir: rnaseqcomp.Rcheck Warnings: 0