Package: rnaseqcomp Version: 1.37.0 Command: /Library/Frameworks/R.framework/Resources/bin/R CMD INSTALL rnaseqcomp StartedAt: 2025-02-09 15:45:06 -0500 (Sun, 09 Feb 2025) EndedAt: 2025-02-09 15:45:11 -0500 (Sun, 09 Feb 2025) EllapsedTime: 4.7 seconds RetCode: 0 Status: OK