Package: rnaseqcomp Version: 1.37.0 Command: /home/biocbuild/bbs-3.21-bioc/R/bin/R CMD build --keep-empty-dirs --no-resave-data rnaseqcomp StartedAt: 2025-02-04 18:56:33 -0500 (Tue, 04 Feb 2025) EndedAt: 2025-02-04 18:56:50 -0500 (Tue, 04 Feb 2025) EllapsedTime: 17.0 seconds RetCode: 0 Status: OK PackageFile: rnaseqcomp_1.37.0.tar.gz PackageFileSize: 1.522 MiB