Package: rnaseqcomp Version: 1.37.0 Command: /home/biocbuild/bbs-3.21-bioc/R/bin/R CMD check --install=check:rnaseqcomp.install-out.txt --library=/home/biocbuild/bbs-3.21-bioc/R/site-library --timings rnaseqcomp_1.37.0.tar.gz StartedAt: 2025-02-10 02:00:16 -0500 (Mon, 10 Feb 2025) EndedAt: 2025-02-10 02:01:01 -0500 (Mon, 10 Feb 2025) EllapsedTime: 45.0 seconds RetCode: 0 Status: OK CheckDir: rnaseqcomp.Rcheck Warnings: 0