Package: rnaseqcomp Version: 1.37.0 Command: /home/biocbuild/bbs-3.21-bioc/R/bin/R CMD INSTALL rnaseqcomp StartedAt: 2025-02-09 15:05:03 -0500 (Sun, 09 Feb 2025) EndedAt: 2025-02-09 15:05:25 -0500 (Sun, 09 Feb 2025) EllapsedTime: 22.3 seconds RetCode: 0 Status: OK