Package: rnaseqcomp Version: 1.37.0 Command: rm -rf rnaseqcomp.buildbin-libdir && mkdir rnaseqcomp.buildbin-libdir && E:\biocbuild\bbs-3.21-bioc\R\bin\R.exe CMD INSTALL --build --library=rnaseqcomp.buildbin-libdir rnaseqcomp_1.37.0.tar.gz StartedAt: 2025-02-10 08:34:50 -0500 (Mon, 10 Feb 2025) EndedAt: 2025-02-10 08:35:02 -0500 (Mon, 10 Feb 2025) EllapsedTime: 12.8 seconds RetCode: 0 Status: OK PackageFile: rnaseqcomp_1.37.0.zip PackageFileSize: 1.458 MiB