Package: rnaseqcomp Version: 1.37.0 Command: chmod a+r rnaseqcomp -R && E:\biocbuild\bbs-3.21-bioc\R\bin\R.exe CMD build --keep-empty-dirs --no-resave-data rnaseqcomp StartedAt: 2025-02-04 21:17:08 -0500 (Tue, 04 Feb 2025) EndedAt: 2025-02-04 21:17:43 -0500 (Tue, 04 Feb 2025) EllapsedTime: 35.0 seconds RetCode: 0 Status: OK PackageFile: rnaseqcomp_1.37.0.tar.gz PackageFileSize: 1.289 MiB