Package: rnaseqcomp Version: 1.37.0 Command: E:\biocbuild\bbs-3.21-bioc\R\bin\R.exe CMD check --no-multiarch --install=check:rnaseqcomp.install-out.txt --library=E:\biocbuild\bbs-3.21-bioc\R\library --no-vignettes --timings rnaseqcomp_1.37.0.tar.gz StartedAt: 2025-02-10 04:48:33 -0500 (Mon, 10 Feb 2025) EndedAt: 2025-02-10 04:49:28 -0500 (Mon, 10 Feb 2025) EllapsedTime: 55.3 seconds RetCode: 0 Status: OK CheckDir: rnaseqcomp.Rcheck Warnings: 0