Package: rnaseqcomp Version: 1.37.0 Command: E:\biocbuild\bbs-3.21-bioc\R\bin\R.exe CMD INSTALL rnaseqcomp StartedAt: 2025-02-04 16:56:27 -0500 (Tue, 04 Feb 2025) EndedAt: 2025-02-04 16:56:37 -0500 (Tue, 04 Feb 2025) EllapsedTime: 10.3 seconds RetCode: 0 Status: OK