Package: roastgsa Version: 1.5.0 Command: rm -rf roastgsa.buildbin-libdir && mkdir roastgsa.buildbin-libdir && /Users/biocbuild/BBS/utils/build-universal.sh roastgsa_1.5.0.tar.gz /Library/Frameworks/R.framework/Resources/bin/R roastgsa.buildbin-libdir StartedAt: 2025-02-09 22:28:26 -0500 (Sun, 09 Feb 2025) EndedAt: 2025-02-09 22:28:30 -0500 (Sun, 09 Feb 2025) EllapsedTime: 4.1 seconds RetCode: 0 Status: OK PackageFile: roastgsa_1.5.0.tgz PackageFileSize: 2.187 MiB