Package: roastgsa Version: 1.5.0 Command: /Library/Frameworks/R.framework/Resources/bin/R CMD build --keep-empty-dirs --no-resave-data roastgsa StartedAt: 2025-02-09 17:26:49 -0500 (Sun, 09 Feb 2025) EndedAt: 2025-02-09 17:27:26 -0500 (Sun, 09 Feb 2025) EllapsedTime: 37.4 seconds RetCode: 0 Status: OK PackageFile: roastgsa_1.5.0.tar.gz PackageFileSize: 2.06 MiB